BEGIN:VCALENDAR
VERSION:2.0
PRODID:-//Library Market//iCal Export//EN
BEGIN:VEVENT
SUMMARY:Dragon Crafts
UID:178108
DTSTAMP:20260420T000900Z
DTSTART:20260603T210000Z
DTEND:20260603T220000Z
LOCATION:2425 S. Dobson Road, Mesa, AZ 85202, United States
ROOM: Dobson Program Room (DR)
DESCRIPTION:Join us for different dragon craft stations. Ages 6-12.
URL:https://events.mesalibrary.org/index.php/event/dragon-crafts-178108
END:VEVENT
END:VCALENDAR
