BEGIN:VCALENDAR
VERSION:2.0
PRODID:-//Library Market//iCal Export//EN
BEGIN:VEVENT
SUMMARY:Computer Skills Training
UID:178155
DTSTAMP:20260419T225400Z
DTSTART:20260623T210000Z
DTEND:20260623T220000Z
LOCATION:635 N. Power Road, Mesa, AZ 85205, United States
ROOM: Roadrunner Room (RM)
DESCRIPTION:Mesa librarians will help you navigate several online learning
  platforms for technology so that you can improve your computer skills at 
 your own pace and on your own time.
URL:https://events.mesalibrary.org/index.php/event/computer-skills-trainin
 g-178155
END:VEVENT
END:VCALENDAR
