BEGIN:VCALENDAR
VERSION:2.0
PRODID:-//Library Market//iCal Export//EN
BEGIN:VEVENT
SUMMARY:Summer Reading Program Kick-Off
UID:178951
DTSTAMP:20260419T223500Z
DTSTART:20260603T210000Z
DTEND:20260603T223000Z
LOCATION:64 E. First St., Mesa, AZ 85201, United States
ROOM: Youth Activity Room (MN)
DESCRIPTION:Celebrate the beginning of Summer Reading Program with dinosau
 r themed crafts and activities!Can&#039;t attend Kick-Off? Sign up for Sum
 mer Reading Program here!
URL:https://events.mesalibrary.org/index.php/event/summer-reading-program-
 kick-178951
END:VEVENT
END:VCALENDAR
