BEGIN:VCALENDAR
VERSION:2.0
PRODID:-//Library Market//iCal Export//EN
BEGIN:VEVENT
SUMMARY:Teen - Painting with Bob Ross
UID:179014
DTSTAMP:20260420T142700Z
DTSTART:20260623T220000Z
DTEND:20260623T233000Z
LOCATION:5036 S. Eastmark Parkway, Mesa, AZ 85212, United States
ROOM: THINKspot @ GW
DESCRIPTION:Paint happy little trees alongside a Bob Ross classic painting
  tutorial. Follow step-by-step techniques to create your own relaxing land
 scape masterpiece, no experience needed. This program is for teens ages 1
 2 to 18.  
URL:https://events.mesalibrary.org/index.php/event/teen-painting-bob-ross-
 179014
END:VEVENT
END:VCALENDAR
