BEGIN:VCALENDAR
VERSION:2.0
PRODID:-//Library Market//iCal Export//EN
BEGIN:VEVENT
SUMMARY:Bookmobile Stop: Aster Aging Downtown
UID:179027
DTSTAMP:20260420T102800Z
DTSTART:20260616T170000Z
DTEND:20260616T183000Z
LOCATION:Aster Aging Downtown, 247 N MacDonald, Mesa , AZ 85201, United St
 ates
ROOM: Bookmobile Stop: Aster Aging Downtown
DESCRIPTION:
URL:https://events.mesalibrary.org/index.php/event/bookmobile-stop-aster-a
 ging-downtown-179027
END:VEVENT
END:VCALENDAR
