BEGIN:VCALENDAR
VERSION:2.0
PRODID:-//Library Market//iCal Export//EN
BEGIN:VEVENT
SUMMARY:Bookmobile Stop: Sonoran Ridge
UID:179034
DTSTAMP:20260420T102800Z
DTSTART:20260622T233000Z
DTEND:20260623T010000Z
LOCATION:Sonoran Ridge, TBA, Mesa, AZ 85206, United States
ROOM: Bookmobile Stop: Sonoran Ridge
DESCRIPTION:
URL:https://events.mesalibrary.org/index.php/event/bookmobile-stop-sonoran
 -ridge-179034
END:VEVENT
END:VCALENDAR
