BEGIN:VCALENDAR
VERSION:2.0
PRODID:-//Library Market//iCal Export//EN
BEGIN:VEVENT
SUMMARY:Kids-Take Home Program for Kids and Tweens
UID:181013
DTSTAMP:20260422T065000Z
DTSTART:20260603T150000Z
DTEND:20260603T190000Z
LOCATION:Brady Park, 7045 E. Monterey Avenue, Mesa, AZ 85209, United State
 s
ROOM: Kids-Take Home Program for Kids and Tweens
DESCRIPTION:Enjoy the entertainment of a Summer Reading Program in the com
 fort of your own home. Come by the Mesa Express Library to pick up a Take 
 Home Program, complete the tasks, and earn summer reading points. Supplies
  are limited.   This week&#039;s theme: Dinosaur Eggs
URL:https://events.mesalibrary.org/index.php/event/kids-take-home-program-
 kids-and-tweens-181013
END:VEVENT
END:VCALENDAR
