BEGIN:VCALENDAR
VERSION:2.0
PRODID:-//Library Market//iCal Export//EN
BEGIN:VEVENT
SUMMARY:Tea-Rex Party
UID:181274
DTSTAMP:20260425T174700Z
DTSTART:20260624T210000Z
DTEND:20260624T220000Z
LOCATION:64 E. First St., Mesa, AZ 85201, United States
ROOM: Youth Activity Room (MN)
DESCRIPTION:It&#039;s a Tea Party themed T-Rex Party with crafts, games, d
 ancing, and a special guest.
URL:https://events.mesalibrary.org/index.php/event/tea-rex-party-181274
END:VEVENT
END:VCALENDAR
