BEGIN:VCALENDAR
VERSION:2.0
PRODID:-//Library Market//iCal Export//EN
BEGIN:VEVENT
SUMMARY:Funityfit: DanceFitness
UID:181579
DTSTAMP:20260424T122700Z
DTSTART:20260515T003000Z
DTEND:20260515T020000Z
LOCATION:5036 S. Eastmark Parkway, Mesa, AZ 85212, United States
ROOM: Inspirian Community Room (GW)
DESCRIPTION:A balanced mix of dance choreography and fitness training, des
 igned to be inclusive, expressive, and empowering.Build confidence and coo
 rdination Enjoy music-driven workouts Suitable for all ages and levels 
 Focus on joy, rhythm, and self-expression A perfect entry point for anyon
 e who wants to start fitness through dance.
URL:https://events.mesalibrary.org/index.php/event/funityfit-dancefitness-
 181579
END:VEVENT
END:VCALENDAR
