BEGIN:VCALENDAR
VERSION:2.0
PRODID:-//Library Market//iCal Export//EN
BEGIN:VEVENT
SUMMARY:Duo Ocotillo Presents: Unearth a Story; The 60&#039;s
UID:171396
DTSTAMP:20260424T194300Z
DTSTART:20260711T173000Z
DTEND:20260711T183000Z
LOCATION:635 N. Power Road, Mesa, AZ 85205, United States
ROOM: Program Room (RM)
DESCRIPTION:Dig up the stories behind the biggest hits of the 1960s. Duo O
 cotillo -- cello with classical guitar or mandolin -- is your guide as we 
 excavate the stories behind great music from the Beatles to the Summer of 
 Love, Moon River to the Girl from Ipanema.
URL:https://events.mesalibrary.org/event/duo-ocotillo-presents-unearth-sto
 ry-60s-171396
END:VEVENT
END:VCALENDAR
