BEGIN:VCALENDAR
VERSION:2.0
PRODID:-//Library Market//iCal Export//EN
BEGIN:VEVENT
SUMMARY:Sun Printing
UID:180856
DTSTAMP:20260422T070600Z
DTSTART:20260604T210000Z
DTEND:20260604T223000Z
LOCATION:64 E. First St., Mesa, AZ 85201, United States
ROOM: Teen Zone (MN)
DESCRIPTION:Did you know if you mix turmeric and isopropyl alcohol togethe
 r you create a natural light sensitive dye? We will use this process calle
 d anthotype printing to create images on paper using the dye and the sun.
URL:https://events.mesalibrary.org/event/sun-prints-180856
END:VEVENT
END:VCALENDAR
