BEGIN:VCALENDAR
VERSION:2.0
PRODID:-//Library Market//iCal Export//EN
BEGIN:VEVENT
SUMMARY:Sand Painting
UID:180857
DTSTAMP:20260422T065000Z
DTSTART:20260611T210000Z
DTEND:20260611T223000Z
LOCATION:64 E. First St., Mesa, AZ 85201, United States
ROOM: Teen Zone (MN)
DESCRIPTION:Curate your own sand palettes using sand and food coloring. Th
 en create unique sand paintings using the colored sand, mod podge, and ima
 gination.
URL:https://events.mesalibrary.org/event/sand-painting-180857
END:VEVENT
END:VCALENDAR
