BEGIN:VCALENDAR
VERSION:2.0
PRODID:-//Library Market//iCal Export//EN
BEGIN:VEVENT
SUMMARY:Wood Burning
UID:180860
DTSTAMP:20260422T101600Z
DTSTART:20260630T210000Z
DTEND:20260630T223000Z
LOCATION:64 E. First St., Mesa, AZ 85201, United States
ROOM: Teen Zone (MN)
DESCRIPTION:Design your own wood burned masterpiece in the name of art. Su
 pplies limited.
URL:https://events.mesalibrary.org/event/wood-burning-180860
END:VEVENT
END:VCALENDAR
