BEGIN:VCALENDAR
VERSION:2.0
PRODID:-//Library Market//iCal Export//EN
BEGIN:VEVENT
SUMMARY:Hunt for the Read-A-Saurus
UID:180999
DTSTAMP:20260420T221500Z
DTSTART:20260617T233000Z
DTEND:20260618T010000Z
LOCATION:Webster Recreation Center, 202 N Sycamore, Mesa, AZ 85201, United
  States
ROOM: Hunt for the Read-A-Saurus
DESCRIPTION:Get ready for a dino-mite adventure with the Read Runner! 🦖
 📚Patrons can follow the Read Runner as it travels around the city, sear
 ching for hidden dinosaur pictures along the way. Each time a dinosaur is 
 spotted, let a staff member know to receive a special dinosaur card—comp
 lete with a secret code for the Summer Reading Program!Collect all eight d
 inosaur cards by the end of the program to unlock a special badge on the M
 aricopa County Reads website. It’s a fun, interactive way to explore, di
 scover, and keep reading all summer long! 
URL:https://events.mesalibrary.org/event/hunt-read-saurus-180999
END:VEVENT
END:VCALENDAR
