BEGIN:VCALENDAR
VERSION:2.0
PRODID:-//Library Market//iCal Export//EN
BEGIN:VEVENT
SUMMARY:Saturday at the Ranch: Building Blocks
UID:181024
DTSTAMP:20260420T234100Z
DTSTART:20260718T170000Z
DTEND:20260718T190000Z
LOCATION:2425 S. Dobson Road, Mesa, AZ 85202, United States
ROOM: Saturday at the Ranch: Building Blocks
DESCRIPTION:Come explore your creative side at the library with LEGO. Chil
 dren can either follow a monthly theme or build from their imaginations. L
 EGO and DUPLO blocks will be provided.
URL:https://events.mesalibrary.org/event/saturday-ranch-building-blocks-18
 1024
END:VEVENT
END:VCALENDAR
