BEGIN:VCALENDAR
VERSION:2.0
PRODID:-//Library Market//iCal Export//EN
BEGIN:VEVENT
SUMMARY:BASIS Mesa&#039;s Class of 2026 Senior Project Presentations
UID:181229
DTSTAMP:20260422T000400Z
DTSTART:20260516T160000Z
DTEND:20260516T233000Z
LOCATION:5036 S. Eastmark Parkway, Mesa, AZ 85212, United States
ROOM: Inspirian Community Room (GW)
DESCRIPTION:Students will present their findings from a year-long research
  project on subjects as varied as stop motion animation, sea turtle conser
 vation in China, AI use in medical diagnostics, cryonics, walkable urban d
 esign, henna art, and more.
URL:https://events.mesalibrary.org/event/basis-mesas-class-2026-senior-pro
 ject-presentations-181229
END:VEVENT
END:VCALENDAR
