BEGIN:VCALENDAR
VERSION:2.0
PRODID:-//Library Market//iCal Export//EN
BEGIN:VEVENT
SUMMARY:Super Gaming Tournament
UID:181281
DTSTAMP:20260424T205100Z
DTSTART:20260605T200000Z
DTEND:20260605T220000Z
LOCATION:64 E. First St., Mesa, AZ 85201, United States
ROOM: Teen Zone (MN)
DESCRIPTION:Jump into the action and show off your gaming skills. Join us 
 for exciting gameplay and friendly competition. Bring a friend, pick a con
 sole, play a game, and show off your gaming skills.
URL:https://events.mesalibrary.org/event/super-gaming-tournament-181281
END:VEVENT
END:VCALENDAR
