BEGIN:VCALENDAR
VERSION:2.0
PRODID:-//Library Market//iCal Export//EN
BEGIN:VEVENT
SUMMARY:Take-Home Program for Prereaders
UID:181300
DTSTAMP:20260422T101600Z
DTSTART:20260617T150000Z
DTEND:20260617T190000Z
LOCATION:Brady Park, 7045 E. Monterey Avenue, Mesa, AZ 85209, United State
 s
ROOM: Take-Home Program for Prereaders
DESCRIPTION:
URL:https://events.mesalibrary.org/event/take-home-program-prereaders-1813
 00
END:VEVENT
END:VCALENDAR
