BEGIN:VCALENDAR
VERSION:2.0
PRODID:-//Library Market//iCal Export//EN
BEGIN:VEVENT
SUMMARY:Funityfit: DanceFitness
UID:181576
DTSTAMP:20260424T095000Z
DTSTART:20260619T003000Z
DTEND:20260619T020000Z
LOCATION:5036 S. Eastmark Parkway, Mesa, AZ 85212, United States
ROOM: Inspirian Community Room (GW)
DESCRIPTION:DanceFitness — Confidence Through MovementA balanced mix of 
 dance choreography and fitness training, designed to be inclusive, express
 ive, and empowering.Build confidence and coordination Enjoy music-driven 
 workouts Suitable for all ages and levels Focus on joy, rhythm, and self
 -expression A perfect entry point for anyone who wants to start fitness t
 hrough dance.
URL:https://events.mesalibrary.org/event/funityfit-dancefitness-181576
END:VEVENT
END:VCALENDAR
