BEGIN:VCALENDAR
VERSION:2.0
PRODID:-//Library Market//iCal Export//EN
BEGIN:VEVENT
SUMMARY:Slow Stitching
UID:181577
DTSTAMP:20260424T095000Z
DTSTART:20260625T170000Z
DTEND:20260625T183000Z
LOCATION:5036 S. Eastmark Parkway, Mesa, AZ 85212, United States
ROOM: THINKspot @ GW
DESCRIPTION:Slow stitching invites participants into a calming, meditative
  approach to hand-sewing that emphasizes process over perfection. Through 
 simple stitches and natural materials, attendees explore creativity, focus
 , and the grounding rhythms of textile work. The session offers a peaceful
  space to relax, connect, and create something meaningful at an unhurried 
 pace.
URL:https://events.mesalibrary.org/event/slow-stitching-181577
END:VEVENT
END:VCALENDAR
