BEGIN:VCALENDAR
VERSION:2.0
PRODID:-//Library Market//iCal Export//EN
BEGIN:VEVENT
SUMMARY:FunityFit: Yoga 2.0 Modern Yoga for Real Life
UID:181583
DTSTAMP:20260424T095000Z
DTSTART:20260627T160000Z
DTEND:20260627T170000Z
LOCATION:5036 S. Eastmark Parkway, Mesa, AZ 85212, United States
ROOM: Inspirian Community Room (GW)
DESCRIPTION:Modern Yoga for Real LifeA fresh, accessible evolution of trad
 itional yoga that blends stretching, breathwork, mindfulness, and relaxati
 on into one powerful practice.Designed for modern lifestyles, Yoga 2.0 hel
 ps you:Improve flexibility, mobility, and posture Reduce stress, anxiety,
  and mental fatigue Build strength through gentle, mindful movement Crea
 te sustainable wellness habits Perfect for beginners, professionals, and 
 anyone seeking balance in body and mind.
URL:https://events.mesalibrary.org/event/funityfit-yoga-20-modern-yoga-rea
 l-life-181583
END:VEVENT
END:VCALENDAR
